2.000000
0.000000
0.000000
-2.000000
709600.000000
3652400.000000
